Package: RUVcorr Version: 1.42.0 Command: /home/biocbuild/bbs-3.22-bioc/R/bin/R CMD INSTALL RUVcorr StartedAt: 2025-11-11 15:16:57 -0500 (Tue, 11 Nov 2025) EndedAt: 2025-11-11 15:17:01 -0500 (Tue, 11 Nov 2025) EllapsedTime: 3.8 seconds RetCode: 0 Status: OK