Package: RUVcorr Version: 1.40.0 Command: /home/biocbuild/bbs-3.21-bioc/R/bin/R CMD build --keep-empty-dirs --no-resave-data RUVcorr StartedAt: 2025-10-15 19:37:21 -0400 (Wed, 15 Oct 2025) EndedAt: 2025-10-15 19:38:06 -0400 (Wed, 15 Oct 2025) EllapsedTime: 45.1 seconds RetCode: 0 Status: OK PackageFile: RUVcorr_1.40.0.tar.gz PackageFileSize: 524.2 KiB