Package: RUVcorr Version: 1.40.0 Command: rm -rf RUVcorr.buildbin-libdir && mkdir RUVcorr.buildbin-libdir && /Users/biocbuild/BBS/utils/build-universal.sh RUVcorr_1.40.0.tar.gz /Library/Frameworks/R.framework/Resources/bin/R RUVcorr.buildbin-libdir StartedAt: 2025-04-22 01:06:04 -0400 (Tue, 22 Apr 2025) EndedAt: 2025-04-22 01:06:16 -0400 (Tue, 22 Apr 2025) EllapsedTime: 11.5 seconds RetCode: 0 Status: OK PackageFile: RUVcorr_1.40.0.tgz PackageFileSize: 795.7 KiB