Package: RUVcorr Version: 1.40.0 Command: /home/biocbuild/R/R/bin/R CMD INSTALL RUVcorr StartedAt: 2025-09-29 20:25:06 -0000 (Mon, 29 Sep 2025) EndedAt: 2025-09-29 20:25:14 -0000 (Mon, 29 Sep 2025) EllapsedTime: 7.5 seconds RetCode: 0 Status: OK