Package: RUVcorr Version: 1.40.0 Command: /home/biocbuild/R/R/bin/R CMD build --keep-empty-dirs --no-resave-data RUVcorr StartedAt: 2025-09-30 04:49:52 -0000 (Tue, 30 Sep 2025) EndedAt: 2025-09-30 05:02:34 -0000 (Tue, 30 Sep 2025) EllapsedTime: 762.4 seconds RetCode: 0 Status: OK PackageFile: RUVcorr_1.40.0.tar.gz PackageFileSize: 507.3 KiB