Package: RUVcorr Version: 1.40.0 Command: rm -rf RUVcorr.buildbin-libdir && mkdir RUVcorr.buildbin-libdir && /Users/biocbuild/BBS/utils/build-universal.sh RUVcorr_1.40.0.tar.gz /Library/Frameworks/R.framework/Resources/bin/R RUVcorr.buildbin-libdir StartedAt: 2025-04-21 22:50:25 -0400 (Mon, 21 Apr 2025) EndedAt: 2025-04-21 22:50:28 -0400 (Mon, 21 Apr 2025) EllapsedTime: 3.1 seconds RetCode: 0 Status: OK PackageFile: RUVcorr_1.40.0.tgz PackageFileSize: 797.6 KiB