Package: RUVcorr Version: 1.40.0 Command: /Library/Frameworks/R.framework/Resources/bin/R CMD INSTALL RUVcorr StartedAt: 2025-10-13 15:35:29 -0400 (Mon, 13 Oct 2025) EndedAt: 2025-10-13 15:35:34 -0400 (Mon, 13 Oct 2025) EllapsedTime: 5.0 seconds RetCode: 0 Status: OK