Package: RUVcorr Version: 1.40.0 Command: /Library/Frameworks/R.framework/Resources/bin/R CMD build --keep-empty-dirs --no-resave-data RUVcorr StartedAt: 2025-10-14 08:18:06 -0400 (Tue, 14 Oct 2025) EndedAt: 2025-10-14 08:19:09 -0400 (Tue, 14 Oct 2025) EllapsedTime: 63.1 seconds RetCode: 0 Status: OK PackageFile: RUVcorr_1.40.0.tar.gz PackageFileSize: 672.6 KiB