Package: RUVcorr Version: 1.42.0 Maintainer: Saskia Freytag MaintainerEmail: saskia.freytag at perkins.uwa.edu.au git_url: https://git.bioconductor.org/packages/RUVcorr git_branch: RELEASE_3_22 git_last_commit: e7ec9c7 git_last_commit_date: 2025-10-29 10:25:20 -0400 (Wed, 29 Oct 2025)