Package: RUVSeq Version: 1.44.0 Command: /home/biocbuild/R/R/bin/R CMD INSTALL RUVSeq StartedAt: 2025-11-17 22:02:23 -0000 (Mon, 17 Nov 2025) EndedAt: 2025-11-17 22:03:18 -0000 (Mon, 17 Nov 2025) EllapsedTime: 54.9 seconds RetCode: 0 Status: OK