Package: RUVSeq Version: 1.44.0 Command: /home/biocbuild/R/R/bin/R CMD build --keep-empty-dirs --no-resave-data RUVSeq StartedAt: 2025-11-18 04:41:45 -0000 (Tue, 18 Nov 2025) EndedAt: 2025-11-18 04:44:11 -0000 (Tue, 18 Nov 2025) EllapsedTime: 146.2 seconds RetCode: 0 Status: OK PackageFile: RUVSeq_1.44.0.tar.gz PackageFileSize: 362.5 KiB