Package: RUVSeq Version: 1.44.0 Command: /home/biocbuild/bbs-3.22-bioc/R/bin/R CMD INSTALL RUVSeq StartedAt: 2025-11-11 15:57:47 -0500 (Tue, 11 Nov 2025) EndedAt: 2025-11-11 15:58:31 -0500 (Tue, 11 Nov 2025) EllapsedTime: 43.5 seconds RetCode: 0 Status: OK