Package: RUVSeq Version: 1.44.0 Command: /home/biocbuild/bbs-3.22-bioc/R/bin/R CMD build --keep-empty-dirs --no-resave-data --md5 RUVSeq StartedAt: 2025-11-11 19:54:42 -0500 (Tue, 11 Nov 2025) EndedAt: 2025-11-11 19:56:17 -0500 (Tue, 11 Nov 2025) EllapsedTime: 95.1 seconds RetCode: 0 Status: OK PackageFile: RUVSeq_1.44.0.tar.gz PackageFileSize: 501.2 KiB