Package: RUVSeq Version: 1.42.0 Command: /home/biocbuild/bbs-3.21-bioc/R/bin/R CMD build --keep-empty-dirs --no-resave-data RUVSeq StartedAt: 2025-10-15 19:37:36 -0400 (Wed, 15 Oct 2025) EndedAt: 2025-10-15 19:39:11 -0400 (Wed, 15 Oct 2025) EllapsedTime: 95.2 seconds RetCode: 0 Status: OK PackageFile: RUVSeq_1.42.0.tar.gz PackageFileSize: 500.8 KiB