Package: RUVSeq Version: 1.42.0 Command: /home/biocbuild/R/R/bin/R CMD INSTALL RUVSeq StartedAt: 2025-09-25 21:10:41 -0000 (Thu, 25 Sep 2025) EndedAt: 2025-09-25 21:11:39 -0000 (Thu, 25 Sep 2025) EllapsedTime: 57.6 seconds RetCode: 0 Status: OK