Package: RUVSeq Version: 1.42.0 Command: /home/biocbuild/R/R/bin/R CMD build --keep-empty-dirs --no-resave-data RUVSeq StartedAt: 2025-09-26 05:33:51 -0000 (Fri, 26 Sep 2025) EndedAt: 2025-09-26 05:36:13 -0000 (Fri, 26 Sep 2025) EllapsedTime: 142.0 seconds RetCode: 0 Status: OK PackageFile: RUVSeq_1.42.0.tar.gz PackageFileSize: 497.6 KiB