Package: RUVSeq Version: 1.42.0 Command: /Library/Frameworks/R.framework/Resources/bin/R CMD build --keep-empty-dirs --no-resave-data RUVSeq StartedAt: 2025-04-21 17:30:53 -0400 (Mon, 21 Apr 2025) EndedAt: 2025-04-21 17:31:35 -0400 (Mon, 21 Apr 2025) EllapsedTime: 41.5 seconds RetCode: 0 Status: OK PackageFile: RUVSeq_1.42.0.tar.gz PackageFileSize: 496 KiB