Package: RUVSeq Version: 1.42.0 Command: /Library/Frameworks/R.framework/Resources/bin/R CMD INSTALL RUVSeq StartedAt: 2025-10-13 18:03:52 -0400 (Mon, 13 Oct 2025) EndedAt: 2025-10-13 18:04:40 -0400 (Mon, 13 Oct 2025) EllapsedTime: 48.1 seconds RetCode: 0 Status: OK