Package: RUCova Version: 1.2.0 Command: /home/biocbuild/bbs-3.22-bioc/R/bin/R CMD INSTALL RUCova StartedAt: 2025-11-11 15:26:51 -0500 (Tue, 11 Nov 2025) EndedAt: 2025-11-11 15:27:16 -0500 (Tue, 11 Nov 2025) EllapsedTime: 25.0 seconds RetCode: 0 Status: OK