Package: RUCova Version: 1.2.0 Command: /Library/Frameworks/R.framework/Resources/bin/R CMD INSTALL RUCova StartedAt: 2025-11-10 15:14:15 -0500 (Mon, 10 Nov 2025) EndedAt: 2025-11-10 15:14:26 -0500 (Mon, 10 Nov 2025) EllapsedTime: 10.9 seconds RetCode: 0 Status: OK