Package: RUCova Version: 1.2.0 Command: /Library/Frameworks/R.framework/Resources/bin/R CMD build --keep-empty-dirs --no-resave-data RUCova StartedAt: 2025-11-10 17:35:45 -0500 (Mon, 10 Nov 2025) EndedAt: 2025-11-10 17:36:12 -0500 (Mon, 10 Nov 2025) EllapsedTime: 27.3 seconds RetCode: 0 Status: OK PackageFile: RUCova_1.2.0.tar.gz PackageFileSize: 5.391 MiB