Package: RUCova Version: 1.2.0 Command: rm -rf RUCova.buildbin-libdir && mkdir RUCova.buildbin-libdir && /Users/biocbuild/BBS/utils/build-universal.sh RUCova_1.2.0.tar.gz /Library/Frameworks/R.framework/Resources/bin/R RUCova.buildbin-libdir StartedAt: 2025-11-10 23:34:52 -0500 (Mon, 10 Nov 2025) EndedAt: 2025-11-10 23:35:05 -0500 (Mon, 10 Nov 2025) EllapsedTime: 12.3 seconds RetCode: 0 Status: OK PackageFile: RUCova_1.2.0.tgz PackageFileSize: 5.403 MiB