Package: RTopper Version: 1.56.0 Command: /home/biocbuild/bbs-3.22-bioc/R/bin/R CMD INSTALL RTopper StartedAt: 2025-11-11 15:17:35 -0500 (Tue, 11 Nov 2025) EndedAt: 2025-11-11 15:17:42 -0500 (Tue, 11 Nov 2025) EllapsedTime: 6.9 seconds RetCode: 0 Status: OK