Package: RTopper Version: 1.56.0 Command: /home/biocbuild/bbs-3.22-bioc/R/bin/R CMD build --keep-empty-dirs --no-resave-data --md5 RTopper StartedAt: 2025-11-11 19:53:35 -0500 (Tue, 11 Nov 2025) EndedAt: 2025-11-11 19:54:34 -0500 (Tue, 11 Nov 2025) EllapsedTime: 59.0 seconds RetCode: 0 Status: OK PackageFile: RTopper_1.56.0.tar.gz PackageFileSize: 1.349 MiB