Package: RTopper Version: 1.56.0 Command: /Library/Frameworks/R.framework/Resources/bin/R CMD INSTALL RTopper StartedAt: 2025-10-31 15:24:01 -0400 (Fri, 31 Oct 2025) EndedAt: 2025-10-31 15:24:16 -0400 (Fri, 31 Oct 2025) EllapsedTime: 14.4 seconds RetCode: 0 Status: OK