Package: RTopper Version: 1.56.0 Command: /Library/Frameworks/R.framework/Resources/bin/R CMD build --keep-empty-dirs --no-resave-data RTopper StartedAt: 2025-11-03 18:33:52 -0500 (Mon, 03 Nov 2025) EndedAt: 2025-11-03 18:35:11 -0500 (Mon, 03 Nov 2025) EllapsedTime: 78.8 seconds RetCode: 0 Status: OK PackageFile: RTopper_1.56.0.tar.gz PackageFileSize: 1.347 MiB