Package: RTopper Version: 1.54.0 Command: /home/biocbuild/R/R/bin/R CMD INSTALL RTopper StartedAt: 2025-10-09 20:25:37 -0000 (Thu, 09 Oct 2025) EndedAt: 2025-10-09 20:25:46 -0000 (Thu, 09 Oct 2025) EllapsedTime: 9.1 seconds RetCode: 0 Status: OK