Package: RTopper Version: 1.54.0 Command: /home/biocbuild/R/R/bin/R CMD build --keep-empty-dirs --no-resave-data RTopper StartedAt: 2025-10-10 04:09:18 -0000 (Fri, 10 Oct 2025) EndedAt: 2025-10-10 04:10:38 -0000 (Fri, 10 Oct 2025) EllapsedTime: 80.0 seconds RetCode: 0 Status: OK PackageFile: RTopper_1.54.0.tar.gz PackageFileSize: 1.343 MiB