Package: RTopper Version: 1.54.0 Command: /Library/Frameworks/R.framework/Resources/bin/R CMD build --keep-empty-dirs --no-resave-data RTopper StartedAt: 2025-04-21 17:30:22 -0400 (Mon, 21 Apr 2025) EndedAt: 2025-04-21 17:30:53 -0400 (Mon, 21 Apr 2025) EllapsedTime: 31.4 seconds RetCode: 0 Status: OK PackageFile: RTopper_1.54.0.tar.gz PackageFileSize: 1.349 MiB