Package: RTopper Version: 1.56.0 Maintainer: Luigi Marchionni MaintainerEmail: marchion at jhu.edu git_url: https://git.bioconductor.org/packages/RTopper git_branch: RELEASE_3_22 git_last_commit: 161cf03 git_last_commit_date: 2025-10-29 10:08:47 -0500 (Wed, 29 Oct 2025)