Package: RTNsurvival Version: 1.34.0 Command: /home/biocbuild/bbs-3.22-bioc/R/bin/R CMD INSTALL RTNsurvival StartedAt: 2025-11-06 15:23:50 -0500 (Thu, 06 Nov 2025) EndedAt: 2025-11-06 15:24:22 -0500 (Thu, 06 Nov 2025) EllapsedTime: 32.1 seconds RetCode: 0 Status: OK