Package: RTNduals Version: 1.34.0 Command: /home/biocbuild/bbs-3.22-bioc/R/bin/R CMD build --keep-empty-dirs --no-resave-data --md5 RTNduals StartedAt: 2025-11-13 19:51:41 -0500 (Thu, 13 Nov 2025) EndedAt: 2025-11-13 19:52:57 -0500 (Thu, 13 Nov 2025) EllapsedTime: 76.1 seconds RetCode: 0 Status: OK PackageFile: RTNduals_1.34.0.tar.gz PackageFileSize: 585.9 KiB