Package: RTNduals Version: 1.34.0 Command: /Library/Frameworks/R.framework/Resources/bin/R CMD INSTALL RTNduals StartedAt: 2025-11-10 15:14:26 -0500 (Mon, 10 Nov 2025) EndedAt: 2025-11-10 15:14:38 -0500 (Mon, 10 Nov 2025) EllapsedTime: 11.8 seconds RetCode: 0 Status: OK