Package: RTNduals Version: 1.34.0 Command: /Library/Frameworks/R.framework/Resources/bin/R CMD build --keep-empty-dirs --no-resave-data RTNduals StartedAt: 2025-11-10 17:35:30 -0500 (Mon, 10 Nov 2025) EndedAt: 2025-11-10 17:36:05 -0500 (Mon, 10 Nov 2025) EllapsedTime: 35.4 seconds RetCode: 0 Status: OK PackageFile: RTNduals_1.34.0.tar.gz PackageFileSize: 584.5 KiB