Package: RTNduals Version: 1.34.0 Command: rm -rf RTNduals.buildbin-libdir && mkdir RTNduals.buildbin-libdir && /Users/biocbuild/BBS/utils/build-universal.sh RTNduals_1.34.0.tar.gz /Library/Frameworks/R.framework/Resources/bin/R RTNduals.buildbin-libdir StartedAt: 2025-11-10 23:34:43 -0500 (Mon, 10 Nov 2025) EndedAt: 2025-11-10 23:34:57 -0500 (Mon, 10 Nov 2025) EllapsedTime: 13.3 seconds RetCode: 0 Status: OK PackageFile: RTNduals_1.34.0.tgz PackageFileSize: 740 KiB