Package: RTN Version: 2.34.0 Command: /home/biocbuild/bbs-3.22-bioc/R/bin/R CMD INSTALL RTN StartedAt: 2025-11-11 15:22:07 -0500 (Tue, 11 Nov 2025) EndedAt: 2025-11-11 15:22:45 -0500 (Tue, 11 Nov 2025) EllapsedTime: 37.1 seconds RetCode: 0 Status: OK