Package: RTCGAToolbox Version: 2.40.0 Command: /home/biocbuild/R/R/bin/R CMD INSTALL RTCGAToolbox StartedAt: 2025-11-10 21:52:10 -0000 (Mon, 10 Nov 2025) EndedAt: 2025-11-10 21:52:43 -0000 (Mon, 10 Nov 2025) EllapsedTime: 33.6 seconds RetCode: 0 Status: OK