Package: RTCGAToolbox Version: 2.40.0 Command: /home/biocbuild/R/R/bin/R CMD check --install=check:RTCGAToolbox.install-out.txt --library=/home/biocbuild/R/R/site-library --no-vignettes --timings RTCGAToolbox_2.40.0.tar.gz StartedAt: 2025-11-14 13:58:03 -0000 (Fri, 14 Nov 2025) EndedAt: 2025-11-14 14:17:24 -0000 (Fri, 14 Nov 2025) EllapsedTime: 1161.2 seconds RetCode: 0 Status: OK CheckDir: RTCGAToolbox.Rcheck Warnings: 0