Package: RTCGAToolbox Version: 2.40.0 Command: /home/biocbuild/R/R/bin/R CMD build --keep-empty-dirs --no-resave-data RTCGAToolbox StartedAt: 2025-11-11 04:43:03 -0000 (Tue, 11 Nov 2025) EndedAt: 2025-11-11 04:44:14 -0000 (Tue, 11 Nov 2025) EllapsedTime: 71.0 seconds RetCode: 0 Status: OK PackageFile: RTCGAToolbox_2.40.0.tar.gz PackageFileSize: 2.353 MiB