Package: RTCGAToolbox Version: 2.38.0 Command: rm -rf RTCGAToolbox.buildbin-libdir && mkdir RTCGAToolbox.buildbin-libdir && E:\biocbuild\bbs-3.21-bioc\R\bin\R.exe CMD INSTALL --build --library=RTCGAToolbox.buildbin-libdir RTCGAToolbox_2.38.0.tar.gz StartedAt: 2025-08-15 10:10:20 -0400 (Fri, 15 Aug 2025) EndedAt: 2025-08-15 10:12:22 -0400 (Fri, 15 Aug 2025) EllapsedTime: 122.6 seconds RetCode: 0 Status: OK PackageFile: RTCGAToolbox_2.38.0.zip PackageFileSize: 633.9 KiB