Package: RTCGAToolbox Version: 2.40.0 Command: /home/biocbuild/bbs-3.22-bioc/R/bin/R CMD INSTALL RTCGAToolbox StartedAt: 2025-11-11 15:48:53 -0500 (Tue, 11 Nov 2025) EndedAt: 2025-11-11 15:49:17 -0500 (Tue, 11 Nov 2025) EllapsedTime: 24.5 seconds RetCode: 0 Status: OK