Package: RTCGAToolbox Version: 2.40.0 Command: /home/biocbuild/bbs-3.22-bioc/R/bin/R CMD check --install=check:RTCGAToolbox.install-out.txt --library=/home/biocbuild/bbs-3.22-bioc/R/site-library --timings RTCGAToolbox_2.40.0.tar.gz StartedAt: 2025-11-12 03:36:04 -0500 (Wed, 12 Nov 2025) EndedAt: 2025-11-12 03:39:37 -0500 (Wed, 12 Nov 2025) EllapsedTime: 212.2 seconds RetCode: 0 Status: OK CheckDir: RTCGAToolbox.Rcheck Warnings: 0