Package: RTCGAToolbox Version: 2.40.0 Command: /home/biocbuild/bbs-3.22-bioc/R/bin/R CMD build --keep-empty-dirs --no-resave-data --md5 RTCGAToolbox StartedAt: 2025-11-11 19:53:11 -0500 (Tue, 11 Nov 2025) EndedAt: 2025-11-11 19:53:52 -0500 (Tue, 11 Nov 2025) EllapsedTime: 41.0 seconds RetCode: 0 Status: OK PackageFile: RTCGAToolbox_2.40.0.tar.gz PackageFileSize: 2.331 MiB