Package: RTCGAToolbox Version: 2.38.0 Command: /Library/Frameworks/R.framework/Resources/bin/R CMD INSTALL RTCGAToolbox StartedAt: 2025-09-25 16:15:47 -0400 (Thu, 25 Sep 2025) EndedAt: 2025-09-25 16:16:43 -0400 (Thu, 25 Sep 2025) EllapsedTime: 56.6 seconds RetCode: 0 Status: OK