Package: RTCGAToolbox Version: 2.38.0 Command: /home/biocbuild/R/R/bin/R CMD check --install=check:RTCGAToolbox.install-out.txt --library=/home/biocbuild/R/R/site-library --no-vignettes --timings RTCGAToolbox_2.38.0.tar.gz StartedAt: 2025-10-14 13:37:05 -0000 (Tue, 14 Oct 2025) EndedAt: 2025-10-14 13:42:54 -0000 (Tue, 14 Oct 2025) EllapsedTime: 348.7 seconds RetCode: 0 Status: OK CheckDir: RTCGAToolbox.Rcheck Warnings: 0