Package: RTCGAToolbox Version: 2.40.0 Command: /Library/Frameworks/R.framework/Resources/bin/R CMD check --install=check:RTCGAToolbox.install-out.txt --library=/Library/Frameworks/R.framework/Resources/library --no-vignettes --timings RTCGAToolbox_2.40.0.tar.gz StartedAt: 2025-10-31 21:50:50 -0400 (Fri, 31 Oct 2025) EndedAt: 2025-10-31 21:52:09 -0400 (Fri, 31 Oct 2025) EllapsedTime: 78.9 seconds RetCode: 0 Status: OK CheckDir: RTCGAToolbox.Rcheck Warnings: 0