Package: RTCGA Version: 1.38.0 Command: /Library/Frameworks/R.framework/Resources/bin/R CMD build --keep-empty-dirs --no-resave-data RTCGA StartedAt: 2025-10-09 22:11:56 -0400 (Thu, 09 Oct 2025) EndedAt: 2025-10-09 22:12:28 -0400 (Thu, 09 Oct 2025) EllapsedTime: 31.9 seconds RetCode: 0 Status: OK PackageFile: RTCGA_1.38.0.tar.gz PackageFileSize: 2.437 MiB