Package: RTCGA Version: 1.38.0 Command: rm -rf RTCGA.buildbin-libdir && mkdir RTCGA.buildbin-libdir && /Users/biocbuild/BBS/utils/build-universal.sh RTCGA_1.38.0.tar.gz /Library/Frameworks/R.framework/Resources/bin/R RTCGA.buildbin-libdir StartedAt: 2025-10-10 14:39:15 -0400 (Fri, 10 Oct 2025) EndedAt: 2025-10-10 14:39:51 -0400 (Fri, 10 Oct 2025) EllapsedTime: 35.8 seconds RetCode: 0 Status: OK PackageFile: RTCGA_1.38.0.tgz PackageFileSize: 2.535 MiB