Package: RTCGA Version: 1.38.0 Command: /Library/Frameworks/R.framework/Resources/bin/R CMD INSTALL RTCGA StartedAt: 2025-09-25 15:28:51 -0400 (Thu, 25 Sep 2025) EndedAt: 2025-09-25 15:29:03 -0400 (Thu, 25 Sep 2025) EllapsedTime: 12.6 seconds RetCode: 0 Status: OK