Package: RTCGA Version: 1.38.0 Command: /Library/Frameworks/R.framework/Resources/bin/R CMD build --keep-empty-dirs --no-resave-data RTCGA StartedAt: 2025-09-26 08:01:41 -0400 (Fri, 26 Sep 2025) EndedAt: 2025-09-26 08:01:59 -0400 (Fri, 26 Sep 2025) EllapsedTime: 18.1 seconds RetCode: 0 Status: OK PackageFile: RTCGA_1.38.0.tar.gz PackageFileSize: 2.437 MiB